BEGIN:VCALENDAR
VERSION:2.0
PRODID:spatie/icalendar-generator
NAME:Northgate Instrumental Music Boosters (NIMB) Calendar
X-WR-CALNAME:Northgate Instrumental Music Boosters (NIMB) Calendar
REFRESH-INTERVAL;VALUE=DURATION:PT30M
X-PUBLISHED-TTL:PT30M
BEGIN:VTIMEZONE
TZID:America/Los_Angeles
BEGIN:STANDARD
DTSTART:20251102T010000
TZOFFSETFROM:-0700
TZOFFSETTO:-0800
END:STANDARD
BEGIN:DAYLIGHT
DTSTART:20260308T010000
TZOFFSETFROM:-0800
TZOFFSETTO:-0700
END:DAYLIGHT
BEGIN:STANDARD
DTSTART:20261101T010000
TZOFFSETFROM:-0700
TZOFFSETTO:-0800
END:STANDARD
END:VTIMEZONE
BEGIN:VTIMEZONE
TZID:UTC
BEGIN:STANDARD
DTSTART:20250724T044410
TZOFFSETFROM:+0000
TZOFFSETTO:+0000
END:STANDARD
END:VTIMEZONE
BEGIN:VEVENT
UID:event-490297@nimbconnect.boosterhub.com
DTSTAMP:20260420T044410Z
SUMMARY:LPAA Jazz Festival
DESCRIPTION:<p>2-Night overnight trip\, with charter bus transportation\, b
 oth ways. Parent volunteers will have shared hotel accommodations hosted b
 y NIMB. </p>
LOCATION:Folsom\, CA
DTSTART;TZID=America/Los_Angeles:20260423T170000
DTEND;TZID=America/Los_Angeles:20260425T234500
END:VEVENT
BEGIN:VEVENT
UID:event-490298@nimbconnect.boosterhub.com
DTSTAMP:20260420T044410Z
SUMMARY:NIMB Board Meeting
DESCRIPTION:<p><br></p>
LOCATION:Northgate Band Room or Zoom\, TBD
DTSTART;TZID=America/Los_Angeles:20260512T190000
DTEND;TZID=America/Los_Angeles:20260512T203000
END:VEVENT
BEGIN:VEVENT
UID:event-490299@nimbconnect.boosterhub.com
DTSTAMP:20260420T044410Z
SUMMARY:Instrumental Music Awards
DESCRIPTION:<p>Join us in the Little Theater\, followed by a potluck refres
 hments reception in the Forum\, to celebrate our musician students and all
  of their accomplishments this year!</p>
LOCATION:Little Theater + Forum
DTSTART;TZID=America/Los_Angeles:20260521T180000
DTEND;TZID=America/Los_Angeles:20260521T203000
END:VEVENT
BEGIN:VEVENT
UID:event-490300@nimbconnect.boosterhub.com
DTSTAMP:20260420T044410Z
SUMMARY:NIMB Board Meeting (Year-End Final)
DESCRIPTION:<p>The final NIMB Board meeting of the year has a limited agend
 a: Approving the 2026-2027 NMB Budget\, and voting on new members to the B
 oard. The business portion of the meeting should only take about 30 minute
 s\, and then we will adjourn for a social gathering to celebrate the end o
 f the year! Feel free to bring the whole family! Food truck is always on s
 ite for a delicious dinner option.</p>
LOCATION:Calicraft Brewing Company: 2700 Mitchell Dr\, Walnut Creek\, CA 94
 598
DTSTART;TZID=America/Los_Angeles:20260528T190000
DTEND;TZID=America/Los_Angeles:20260528T203000
END:VEVENT
BEGIN:VEVENT
UID:event-520748@nimbconnect.boosterhub.com
DTSTAMP:20260420T044410Z
SUMMARY:Memorial Day
DESCRIPTION:
LOCATION:
X-MICROSOFT-CDO-ALLDAYEVENT:TRUE
DTSTART;TZID=America/Los_Angeles;VALUE=DATE:20260525
DTEND;TZID=America/Los_Angeles;VALUE=DATE:20260526
END:VEVENT
BEGIN:VEVENT
UID:event-520749@nimbconnect.boosterhub.com
DTSTAMP:20260420T044410Z
SUMMARY:Last Day of School
DESCRIPTION:
LOCATION:
X-MICROSOFT-CDO-ALLDAYEVENT:TRUE
DTSTART;TZID=America/Los_Angeles;VALUE=DATE:20260602
DTEND;TZID=America/Los_Angeles;VALUE=DATE:20260603
END:VEVENT
BEGIN:VEVENT
UID:event-606944@nimbconnect.boosterhub.com
DTSTAMP:20260420T044410Z
SUMMARY:Yoshi's Spring Concert - Jazz
DESCRIPTION:<p>1 show: 7:30-9:30pm. Call time to NHS Band Room at 2:00pm fo
 r students and chaperones/equipment drivers (final itinerary forthcoming).
  One-way bus transportation to Yoshi's.  FAMILIES MUST RETURN STUDENTS TO 
 HOME.</p>
LOCATION:Yoshi's\, 510 Embarcadero West\, Oakland\, CA 94607\, USA
DTSTART;TZID=America/Los_Angeles:20260519T140000
DTEND;TZID=America/Los_Angeles:20260519T220000
END:VEVENT
BEGIN:VEVENT
UID:event-765377@nimbconnect.boosterhub.com
DTSTAMP:20260420T044410Z
SUMMARY:Lesher Spring Concert - Classical Groups
DESCRIPTION:
LOCATION:Lesher Center for the Arts\, Downtown Walnut Creek
DTSTART;TZID=America/Los_Angeles:20260505T190000
DTEND;TZID=America/Los_Angeles:20260505T220000
END:VEVENT
BEGIN:VEVENT
UID:event-1176264@nimbconnect.boosterhub.com
DTSTAMP:20260420T044410Z
SUMMARY:Panda Express Dine to Donate!
DESCRIPTION:
LOCATION:2280 Oak Grove Rd\, Walnut Creek\, CA 94598
DTSTART;TZID=America/Los_Angeles:20260421T093000
DTEND;TZID=America/Los_Angeles:20260421T210000
END:VEVENT
END:VCALENDAR